BEGIN:VCALENDAR
VERSION:2.0
PRODID:spatie/icalendar-generator
DESCRIPTION:Händelser från Nossebroregionens Företagare
X-WR-CALDESC:Händelser från Nossebroregionens Företagare
REFRESH-INTERVAL;VALUE=DURATION:PT1440M
X-PUBLISHED-TTL:PT1440M
BEGIN:VTIMEZONE
TZID:Etc/GMT-2
BEGIN:STANDARD
DTSTART:20250727T000000Z
TZOFFSETFROM:+0200
TZOFFSETTO:+0200
END:STANDARD
END:VTIMEZONE
BEGIN:VTIMEZONE
TZID:UTC
BEGIN:STANDARD
DTSTART:20250724T124735Z
TZOFFSETFROM:+0000
TZOFFSETTO:+0000
END:STANDARD
END:VTIMEZONE
BEGIN:VEVENT
UID:8-6
DTSTAMP:20260420T124735Z
SUMMARY:Elförsörjning i framtiden
LOCATION:
ORGANIZER;CN=4xt6u:MAILTO:mikael@vanoit.se
DTSTART;TZID=Etc/GMT-2:20260423T000000
DTEND;TZID=Etc/GMT-2:20260423T010000
X-ALT-DESC;FMTTYPE=TEXT/HTML:
CATEGORIES:General
URL;VALUE=URI:https://1.nossebro.com/mc-events/elforsorjning-i-framtiden/
METHOD:PUBLISH
END:VEVENT
END:VCALENDAR